BEGIN:VCALENDAR
VERSION:2.0
PRODID:-//Connecticut Museum of Culture and History - ECPv6.15.20//NONSGML v1.0//EN
CALSCALE:GREGORIAN
METHOD:PUBLISH
X-WR-CALNAME:Connecticut Museum of Culture and History
X-ORIGINAL-URL:https://www.connecticutmuseum.org
X-WR-CALDESC:Events for Connecticut Museum of Culture and History
REFRESH-INTERVAL;VALUE=DURATION:PT1H
X-Robots-Tag:noindex
X-PUBLISHED-TTL:PT1H
BEGIN:VTIMEZONE
TZID:America/New_York
BEGIN:DAYLIGHT
TZOFFSETFROM:-0500
TZOFFSETTO:-0400
TZNAME:EDT
DTSTART:20210314T070000
END:DAYLIGHT
BEGIN:STANDARD
TZOFFSETFROM:-0400
TZOFFSETTO:-0500
TZNAME:EST
DTSTART:20211107T060000
END:STANDARD
BEGIN:DAYLIGHT
TZOFFSETFROM:-0500
TZOFFSETTO:-0400
TZNAME:EDT
DTSTART:20220313T070000
END:DAYLIGHT
BEGIN:STANDARD
TZOFFSETFROM:-0400
TZOFFSETTO:-0500
TZNAME:EST
DTSTART:20221106T060000
END:STANDARD
BEGIN:DAYLIGHT
TZOFFSETFROM:-0500
TZOFFSETTO:-0400
TZNAME:EDT
DTSTART:20230312T070000
END:DAYLIGHT
BEGIN:STANDARD
TZOFFSETFROM:-0400
TZOFFSETTO:-0500
TZNAME:EST
DTSTART:20231105T060000
END:STANDARD
END:VTIMEZONE
BEGIN:VEVENT
DTSTART;TZID=America/New_York:20221126T110000
DTEND;TZID=America/New_York:20221126T120000
DTSTAMP:20260419T084629
CREATED:20220822T150639Z
LAST-MODIFIED:20221118T182832Z
UID:23276-1669460400-1669464000@www.connecticutmuseum.org
SUMMARY:Remembering G. Fox & Co.
DESCRIPTION:Join us for a behind-the scenes tour at the CMCH to see our collection of memorabilia from Hartford’s most iconic department store. Our archives contain hundreds of goods sold over the years at G. Fox & Co.\, ranging from wedding gowns to toilet paper! You’ll also learn about Beatrice Fox Auerbach\, the pioneering businesswoman who led G. Fox & Co. through its golden age. \nTickets must be purchased in advance online. You can purchase your tickets here. \n$10 for CMCH members\, $15 for non-members. Ticket includes admission to the museum’s galleries. \nQuestions? Contact Adult Programs Manager Natalie Belanger via email at natalie_belanger@chs.org\, or call (860) 236-5621 x289.
URL:https://www.connecticutmuseum.org/event/remembering-g-fox-co/
LOCATION:Connecticut Museum of Culture and History\, 1 Elizabeth Street\, Hartford\, CT\, 06105\, United States
CATEGORIES:behind the scenes,G. Fox,Special Event
ATTACH;FMTTYPE=image/png:https://www.connecticutmuseum.org/wp-content/uploads/2022/08/G.Fox-Christmas-1920x1080-1.png
ORGANIZER;CN="Connecticut Museum of Culture and History":MAILTO:ask_us@chs.org
GEO:41.772934;-72.705277
X-APPLE-STRUCTURED-LOCATION;VALUE=URI;X-ADDRESS=Connecticut Museum of Culture and History 1 Elizabeth Street Hartford CT 06105 United States;X-APPLE-RADIUS=500;X-TITLE=1 Elizabeth Street:geo:-72.705277,41.772934
END:VEVENT
BEGIN:VEVENT
DTSTART;TZID=America/New_York:20221126T140000
DTEND;TZID=America/New_York:20221126T150000
DTSTAMP:20260419T084629
CREATED:20220822T151004Z
LAST-MODIFIED:20221118T183335Z
UID:23278-1669471200-1669474800@www.connecticutmuseum.org
SUMMARY:Remembering G. Fox & Co.
DESCRIPTION:Join us for a behind-the scenes tour at the CMCH to see our collection of memorabilia from Hartford’s most iconic department store. Our archives contain hundreds of goods sold over the years at G. Fox & Co.\, ranging from wedding gowns to toilet paper! You’ll also learn about Beatrice Fox Auerbach\, the pioneering businesswoman who led G. Fox & Co. through its golden age. \nTickets must be purchased in advance online. You can purchase your tickets here. \n$10 for CMCH members\, $15 for non-members. Ticket includes admission to the museum’s galleries. \nQuestions? Contact Adult Programs Manager Natalie Belanger via email at natalie_belanger@chs.org\, or call (860) 236-5621 x289.
URL:https://www.connecticutmuseum.org/event/remembering-g-fox-co-2/
LOCATION:Connecticut Museum of Culture and History\, 1 Elizabeth Street\, Hartford\, CT\, 06105\, United States
CATEGORIES:behind the scenes,G. Fox,Special Event
ATTACH;FMTTYPE=image/png:https://www.connecticutmuseum.org/wp-content/uploads/2022/08/G.Fox-Christmas-1920x1080-1.png
ORGANIZER;CN="Connecticut Museum of Culture and History":MAILTO:ask_us@chs.org
GEO:41.772934;-72.705277
X-APPLE-STRUCTURED-LOCATION;VALUE=URI;X-ADDRESS=Connecticut Museum of Culture and History 1 Elizabeth Street Hartford CT 06105 United States;X-APPLE-RADIUS=500;X-TITLE=1 Elizabeth Street:geo:-72.705277,41.772934
END:VEVENT
END:VCALENDAR